BEGIN:VCALENDAR
VERSION:2.0
PRODID:-//Abilene Public Library - ECPv6.15.20//NONSGML v1.0//EN
CALSCALE:GREGORIAN
METHOD:PUBLISH
X-WR-CALNAME:Abilene Public Library
X-ORIGINAL-URL:http://abilene.lib.nckls.org
X-WR-CALDESC:Events for Abilene Public Library
REFRESH-INTERVAL;VALUE=DURATION:PT1H
X-Robots-Tag:noindex
X-PUBLISHED-TTL:PT1H
BEGIN:VTIMEZONE
TZID:America/Chicago
BEGIN:DAYLIGHT
TZOFFSETFROM:-0600
TZOFFSETTO:-0500
TZNAME:CDT
DTSTART:20250309T080000
END:DAYLIGHT
BEGIN:STANDARD
TZOFFSETFROM:-0500
TZOFFSETTO:-0600
TZNAME:CST
DTSTART:20251102T070000
END:STANDARD
BEGIN:DAYLIGHT
TZOFFSETFROM:-0600
TZOFFSETTO:-0500
TZNAME:CDT
DTSTART:20260308T080000
END:DAYLIGHT
BEGIN:STANDARD
TZOFFSETFROM:-0500
TZOFFSETTO:-0600
TZNAME:CST
DTSTART:20261101T070000
END:STANDARD
BEGIN:DAYLIGHT
TZOFFSETFROM:-0600
TZOFFSETTO:-0500
TZNAME:CDT
DTSTART:20270314T080000
END:DAYLIGHT
BEGIN:STANDARD
TZOFFSETFROM:-0500
TZOFFSETTO:-0600
TZNAME:CST
DTSTART:20271107T070000
END:STANDARD
END:VTIMEZONE
BEGIN:VEVENT
DTSTART;TZID=America/Chicago:20260418T100000
DTEND;TZID=America/Chicago:20260418T113000
DTSTAMP:20260420T064910
CREATED:20260114T174640Z
LAST-MODIFIED:20260408T165003Z
UID:10000411-1776506400-1776511800@abilene.lib.nckls.org
SUMMARY:Diamond Art
DESCRIPTION:Come learn how to Diamond Paint! \nSaturday\, April 18th \nDrop-in the Children’s Library between 10 – 11:30 am \nAll supplies provided!
URL:http://abilene.lib.nckls.org/event/diamond-art/
CATEGORIES:Youth Programs
ATTACH;FMTTYPE=image/png:http://abilene.lib.nckls.org/wp-content/uploads/sites/14/2026/01/Diamond-Art.png
END:VEVENT
END:VCALENDAR