BEGIN:VCALENDAR
VERSION:2.0
PRODID:-//Abilene Public Library - ECPv6.15.20//NONSGML v1.0//EN
CALSCALE:GREGORIAN
METHOD:PUBLISH
X-WR-CALNAME:Abilene Public Library
X-ORIGINAL-URL:https://abilene.lib.nckls.org
X-WR-CALDESC:Events for Abilene Public Library
REFRESH-INTERVAL;VALUE=DURATION:PT1H
X-Robots-Tag:noindex
X-PUBLISHED-TTL:PT1H
BEGIN:VTIMEZONE
TZID:America/Chicago
BEGIN:DAYLIGHT
TZOFFSETFROM:-0600
TZOFFSETTO:-0500
TZNAME:CDT
DTSTART:20240310T080000
END:DAYLIGHT
BEGIN:STANDARD
TZOFFSETFROM:-0500
TZOFFSETTO:-0600
TZNAME:CST
DTSTART:20241103T070000
END:STANDARD
BEGIN:DAYLIGHT
TZOFFSETFROM:-0600
TZOFFSETTO:-0500
TZNAME:CDT
DTSTART:20250309T080000
END:DAYLIGHT
BEGIN:STANDARD
TZOFFSETFROM:-0500
TZOFFSETTO:-0600
TZNAME:CST
DTSTART:20251102T070000
END:STANDARD
BEGIN:DAYLIGHT
TZOFFSETFROM:-0600
TZOFFSETTO:-0500
TZNAME:CDT
DTSTART:20260308T080000
END:DAYLIGHT
BEGIN:STANDARD
TZOFFSETFROM:-0500
TZOFFSETTO:-0600
TZNAME:CST
DTSTART:20261101T070000
END:STANDARD
BEGIN:DAYLIGHT
TZOFFSETFROM:-0600
TZOFFSETTO:-0500
TZNAME:CDT
DTSTART:20270314T080000
END:DAYLIGHT
BEGIN:STANDARD
TZOFFSETFROM:-0500
TZOFFSETTO:-0600
TZNAME:CST
DTSTART:20271107T070000
END:STANDARD
END:VTIMEZONE
BEGIN:VEVENT
DTSTART;TZID=America/Chicago:20260422T160000
DTEND;TZID=America/Chicago:20260422T170000
DTSTAMP:20260425T101601
CREATED:20260416T165109Z
LAST-MODIFIED:20260416T165109Z
UID:10000489-1776873600-1776877200@abilene.lib.nckls.org
SUMMARY:3-D Printer Grand Opening
DESCRIPTION:Grand Opening!  Come and check it out! \n–  Learn the Guidelines for printing a project \n-Find out how to make an appointment \n–  See the printer in action! \nWednesday\,  April 22 at 4 pm \n3rd floor in the Teens and Technology Department \n 
URL:https://abilene.lib.nckls.org/event/3-d-printer-grand-opening/
CATEGORIES:All Ages
ATTACH;FMTTYPE=image/png:https://abilene.lib.nckls.org/wp-content/uploads/sites/14/2026/04/3D-Printer-Launch.png
END:VEVENT
BEGIN:VEVENT
DTSTART;TZID=America/Chicago:20260420T190000
DTEND;TZID=America/Chicago:20260420T210000
DTSTAMP:20260425T101601
CREATED:20260306T184331Z
LAST-MODIFIED:20260306T203326Z
UID:10000421-1776711600-1776718800@abilene.lib.nckls.org
SUMMARY:Documentary Screening -  Free for all: The Public Library
DESCRIPTION:Free for All: The Public Library tells the story of the quiet revolutionaries who made a simple idea happen. From the pioneering women behind the “Free Library Movement” to today’s librarians who serve the public despite working in a contentious age of closures and book bans\, meet those who created a civic institution where everything is free and the doors are open to all. \n7 pm at the Library\, April 20th
URL:https://abilene.lib.nckls.org/event/documentary-screening-free-for-all-the-public-library/
CATEGORIES:All Ages
ATTACH;FMTTYPE=image/webp:https://abilene.lib.nckls.org/wp-content/uploads/sites/14/2026/03/088c8c2c-c2b6-459a-b7e6-60600bf953ff-scaled.webp
END:VEVENT
BEGIN:VEVENT
DTSTART;TZID=America/Chicago:20260411T093000
DTEND;TZID=America/Chicago:20260411T130000
DTSTAMP:20260425T101601
CREATED:20260316T191836Z
LAST-MODIFIED:20260316T201702Z
UID:10000433-1775899800-1775912400@abilene.lib.nckls.org
SUMMARY:Snacks and Scribbles
DESCRIPTION:Snacks and Scribbles\nCome and join us on the 3rd floor in the Teens & Tech Department for art and coloring. Snacks provided!\nCome and go event 9:30 am – 1 pm\nAll ages welcome – Adults\, Teens & Youth\nMeets the 2nd Saturday of each month
URL:https://abilene.lib.nckls.org/event/snacks-and-scribbles-3/2026-04-11/
CATEGORIES:All Ages
ATTACH;FMTTYPE=image/webp:https://abilene.lib.nckls.org/wp-content/uploads/sites/14/2026/03/Snacks-Scribbles.webp
END:VEVENT
BEGIN:VEVENT
DTSTART;TZID=America/Chicago:20260321T093000
DTEND;TZID=America/Chicago:20260321T130000
DTSTAMP:20260425T101601
CREATED:20260316T191604Z
LAST-MODIFIED:20260316T191604Z
UID:10000082-1774085400-1774098000@abilene.lib.nckls.org
SUMMARY:Snacks and Scribbles
DESCRIPTION:Snacks and Scribbles\nCome and join us on the 3rd floor in the Teens & Tech Department for art and coloring. Snacks provided!\nCome and go event 9:30 am – 1 pm\nAll ages welcome – Adults\, Teens & Youth\nMeets the 3rd Saturday of each month
URL:https://abilene.lib.nckls.org/event/snacks-and-scribbles-2/2026-03-21/
CATEGORIES:All Ages
ATTACH;FMTTYPE=image/webp:https://abilene.lib.nckls.org/wp-content/uploads/sites/14/2025/03/3-2.webp
END:VEVENT
BEGIN:VEVENT
DTSTART;TZID=America/Chicago:20260221T093000
DTEND;TZID=America/Chicago:20260221T130000
DTSTAMP:20260425T101601
CREATED:20251016T171946Z
LAST-MODIFIED:20251016T173339Z
UID:10000081-1771666200-1771678800@abilene.lib.nckls.org
SUMMARY:Snacks and Scribbles
DESCRIPTION:Snacks and Scribbles\nCome and join us on the 3rd floor in the Teens & Tech Department for art and coloring. Snacks provided!\nCome and go event 9:30 am – 1 pm\nAll ages welcome – Adults\, Teens & Youth\nMeets the 3rd Saturday of each month
URL:https://abilene.lib.nckls.org/event/snacks-and-scribbles/2026-02-21/
CATEGORIES:All Ages
ATTACH;FMTTYPE=image/webp:https://abilene.lib.nckls.org/wp-content/uploads/sites/14/2025/03/3-2.webp
END:VEVENT
BEGIN:VEVENT
DTSTART;TZID=America/Chicago:20260117T093000
DTEND;TZID=America/Chicago:20260117T130000
DTSTAMP:20260425T101601
CREATED:20251016T171946Z
LAST-MODIFIED:20251016T173339Z
UID:10000080-1768642200-1768654800@abilene.lib.nckls.org
SUMMARY:Snacks and Scribbles
DESCRIPTION:Snacks and Scribbles\nCome and join us on the 3rd floor in the Teens & Tech Department for art and coloring. Snacks provided!\nCome and go event 9:30 am – 1 pm\nAll ages welcome – Adults\, Teens & Youth\nMeets the 3rd Saturday of each month
URL:https://abilene.lib.nckls.org/event/snacks-and-scribbles/2026-01-17/
CATEGORIES:All Ages
ATTACH;FMTTYPE=image/webp:https://abilene.lib.nckls.org/wp-content/uploads/sites/14/2025/03/3-2.webp
END:VEVENT
BEGIN:VEVENT
DTSTART;TZID=America/Chicago:20260115T190000
DTEND;TZID=America/Chicago:20260115T210000
DTSTAMP:20260425T101601
CREATED:20260105T170328Z
LAST-MODIFIED:20260105T170328Z
UID:10000300-1768503600-1768510800@abilene.lib.nckls.org
SUMMARY:Movie Night
DESCRIPTION:Celebrate 100 years of Winnie the Pooh with us! Movie is rated PG and 1h 44m long. All ages welcome but children under 8 must be accompanied by an adult. Feel free to bring snacks\, nonalcoholic beverages\, blankets\, pillows\, etc. \n 
URL:https://abilene.lib.nckls.org/event/movie-night/
CATEGORIES:All Ages
END:VEVENT
BEGIN:VEVENT
DTSTART;TZID=America/Chicago:20251220T100000
DTEND;TZID=America/Chicago:20251220T113000
DTSTAMP:20260425T101601
CREATED:20251124T205720Z
LAST-MODIFIED:20251126T185330Z
UID:10000298-1766224800-1766230200@abilene.lib.nckls.org
SUMMARY:Christmas Music Bingo
DESCRIPTION:Saturday morning at 10 am\nChristmas Music Bingo for all ages!
URL:https://abilene.lib.nckls.org/event/christmas-music-bingo/
CATEGORIES:All Ages
END:VEVENT
BEGIN:VEVENT
DTSTART;TZID=America/Chicago:20251220T093000
DTEND;TZID=America/Chicago:20251220T130000
DTSTAMP:20260425T101601
CREATED:20251016T171946Z
LAST-MODIFIED:20251016T173339Z
UID:10000079-1766223000-1766235600@abilene.lib.nckls.org
SUMMARY:Snacks and Scribbles
DESCRIPTION:Snacks and Scribbles\nCome and join us on the 3rd floor in the Teens & Tech Department for art and coloring. Snacks provided!\nCome and go event 9:30 am – 1 pm\nAll ages welcome – Adults\, Teens & Youth\nMeets the 3rd Saturday of each month
URL:https://abilene.lib.nckls.org/event/snacks-and-scribbles/2025-12-20/
CATEGORIES:All Ages
ATTACH;FMTTYPE=image/webp:https://abilene.lib.nckls.org/wp-content/uploads/sites/14/2025/03/3-2.webp
END:VEVENT
BEGIN:VEVENT
DTSTART;TZID=America/Chicago:20251115T093000
DTEND;TZID=America/Chicago:20251115T130000
DTSTAMP:20260425T101601
CREATED:20251016T171946Z
LAST-MODIFIED:20251016T173339Z
UID:10000078-1763199000-1763211600@abilene.lib.nckls.org
SUMMARY:Snacks and Scribbles
DESCRIPTION:Snacks and Scribbles\nCome and join us on the 3rd floor in the Teens & Tech Department for art and coloring. Snacks provided!\nCome and go event 9:30 am – 1 pm\nAll ages welcome – Adults\, Teens & Youth\nMeets the 3rd Saturday of each month
URL:https://abilene.lib.nckls.org/event/snacks-and-scribbles/2025-11-15/
CATEGORIES:All Ages
ATTACH;FMTTYPE=image/webp:https://abilene.lib.nckls.org/wp-content/uploads/sites/14/2025/03/3-2.webp
END:VEVENT
BEGIN:VEVENT
DTSTART;VALUE=DATE:20251101
DTEND;VALUE=DATE:20251102
DTSTAMP:20260425T101601
CREATED:20251015T152650Z
LAST-MODIFIED:20251016T191531Z
UID:10000001-1761955200-1762041599@abilene.lib.nckls.org
SUMMARY:Friends of the Library Book Sale
DESCRIPTION:Friday and Saturday\, gently used books at bargain prices.\nFriday 9 -6\nSaturday 9 -2\n2nd Floor of the Library
URL:https://abilene.lib.nckls.org/event/friends-of-the-library-book-sale/
CATEGORIES:All Ages
END:VEVENT
BEGIN:VEVENT
DTSTART;VALUE=DATE:20251031
DTEND;VALUE=DATE:20251101
DTSTAMP:20260425T101601
CREATED:20251016T191805Z
LAST-MODIFIED:20251016T191805Z
UID:10000106-1761868800-1761955199@abilene.lib.nckls.org
SUMMARY:Friends of the Library Book Sale
DESCRIPTION:Friday and Saturday\, gently used books at bargain prices.\nFriday 9 -6\nSaturday 9 -2
URL:https://abilene.lib.nckls.org/event/friends-of-the-library-book-sale-2/
CATEGORIES:All Ages
END:VEVENT
END:VCALENDAR