BEGIN:VCALENDAR
VERSION:2.0
PRODID:-//Abilene Public Library - ECPv6.15.20//NONSGML v1.0//EN
CALSCALE:GREGORIAN
METHOD:PUBLISH
X-WR-CALNAME:Abilene Public Library
X-ORIGINAL-URL:https://abilene.lib.nckls.org
X-WR-CALDESC:Events for Abilene Public Library
REFRESH-INTERVAL;VALUE=DURATION:PT1H
X-Robots-Tag:noindex
X-PUBLISHED-TTL:PT1H
BEGIN:VTIMEZONE
TZID:America/Chicago
BEGIN:DAYLIGHT
TZOFFSETFROM:-0600
TZOFFSETTO:-0500
TZNAME:CDT
DTSTART:20250309T080000
END:DAYLIGHT
BEGIN:STANDARD
TZOFFSETFROM:-0500
TZOFFSETTO:-0600
TZNAME:CST
DTSTART:20251102T070000
END:STANDARD
BEGIN:DAYLIGHT
TZOFFSETFROM:-0600
TZOFFSETTO:-0500
TZNAME:CDT
DTSTART:20260308T080000
END:DAYLIGHT
BEGIN:STANDARD
TZOFFSETFROM:-0500
TZOFFSETTO:-0600
TZNAME:CST
DTSTART:20261101T070000
END:STANDARD
BEGIN:DAYLIGHT
TZOFFSETFROM:-0600
TZOFFSETTO:-0500
TZNAME:CDT
DTSTART:20270314T080000
END:DAYLIGHT
BEGIN:STANDARD
TZOFFSETFROM:-0500
TZOFFSETTO:-0600
TZNAME:CST
DTSTART:20271107T070000
END:STANDARD
END:VTIMEZONE
BEGIN:VEVENT
DTSTART;VALUE=DATE:20260708
DTEND;VALUE=DATE:20260709
DTSTAMP:20260421T020651
CREATED:20260415T194012Z
LAST-MODIFIED:20260415T194544Z
UID:10000485-1783468800-1783555199@abilene.lib.nckls.org
SUMMARY:"Escape England" Escape Room
DESCRIPTION:Celebrate America’s 250th by Escaping England in this escape room.  For All Ages! \nMore details to come!
URL:https://abilene.lib.nckls.org/event/escape-england-escape-room/2026-07-08/
CATEGORIES:All Ages
END:VEVENT
BEGIN:VEVENT
DTSTART;VALUE=DATE:20260709
DTEND;VALUE=DATE:20260710
DTSTAMP:20260421T020651
CREATED:20260415T194012Z
LAST-MODIFIED:20260415T194544Z
UID:10000486-1783555200-1783641599@abilene.lib.nckls.org
SUMMARY:"Escape England" Escape Room
DESCRIPTION:Celebrate America’s 250th by Escaping England in this escape room.  For All Ages! \nMore details to come!
URL:https://abilene.lib.nckls.org/event/escape-england-escape-room/2026-07-09/
CATEGORIES:All Ages
END:VEVENT
BEGIN:VEVENT
DTSTART;VALUE=DATE:20260710
DTEND;VALUE=DATE:20260711
DTSTAMP:20260421T020651
CREATED:20260415T194012Z
LAST-MODIFIED:20260415T194544Z
UID:10000487-1783641600-1783727999@abilene.lib.nckls.org
SUMMARY:"Escape England" Escape Room
DESCRIPTION:Celebrate America’s 250th by Escaping England in this escape room.  For All Ages! \nMore details to come!
URL:https://abilene.lib.nckls.org/event/escape-england-escape-room/2026-07-10/
CATEGORIES:All Ages
END:VEVENT
BEGIN:VEVENT
DTSTART;VALUE=DATE:20260711
DTEND;VALUE=DATE:20260712
DTSTAMP:20260421T020651
CREATED:20260415T194012Z
LAST-MODIFIED:20260415T194544Z
UID:10000488-1783728000-1783814399@abilene.lib.nckls.org
SUMMARY:"Escape England" Escape Room
DESCRIPTION:Celebrate America’s 250th by Escaping England in this escape room.  For All Ages! \nMore details to come!
URL:https://abilene.lib.nckls.org/event/escape-england-escape-room/2026-07-11/
CATEGORIES:All Ages
END:VEVENT
END:VCALENDAR